BEGIN:VCALENDAR
VERSION:2.0
PRODID:-//PNL//FR
CALSCALE:GREGORIAN
BEGIN:VEVENT
UID:8ee9fe81-f59e-4f62-9a43-0c88656eb34a
DTSTAMP:20260413T142447
DTSTART;TZID=Europe/Paris:20261013T183000
DTEND;TZID=Europe/Paris:20261013T213000
SUMMARY:Praticien PNL certifié en ligne
END:VEVENT
BEGIN:VEVENT
UID:dc1978ab-44b9-4ab7-bd30-a00650e84a83
DTSTAMP:20260413T142447
DTSTART;TZID=Europe/Paris:20261027T183000
DTEND;TZID=Europe/Paris:20261027T213000
SUMMARY:Praticien PNL certifié en ligne
END:VEVENT
BEGIN:VEVENT
UID:f48c6b6a-8683-4605-924d-d70fa6ff1da4
DTSTAMP:20260413T142447
DTSTART;TZID=Europe/Paris:20261103T183000
DTEND;TZID=Europe/Paris:20261103T213000
SUMMARY:Praticien PNL certifié en ligne
END:VEVENT
BEGIN:VEVENT
UID:09a5dc23-0a9e-4813-8bf4-9fd1c4398b26
DTSTAMP:20260413T142447
DTSTART;TZID=Europe/Paris:20261110T183000
DTEND;TZID=Europe/Paris:20261110T213000
SUMMARY:Praticien PNL certifié en ligne
END:VEVENT
BEGIN:VEVENT
UID:87a07555-df74-4530-ac16-0da7bbe48ffe
DTSTAMP:20260413T142447
DTSTART;TZID=Europe/Paris:20261117T183000
DTEND;TZID=Europe/Paris:20261117T213000
SUMMARY:Praticien PNL certifié en ligne
END:VEVENT
BEGIN:VEVENT
UID:9c5d6d2c-36cd-4e6e-8ca6-5a9ceaee0725
DTSTAMP:20260413T142447
DTSTART;TZID=Europe/Paris:20261124T183000
DTEND;TZID=Europe/Paris:20261124T213000
SUMMARY:Praticien PNL certifié en ligne
END:VEVENT
BEGIN:VEVENT
UID:50177aab-5a58-4830-ba81-ec3bc4c63e1b
DTSTAMP:20260413T142447
DTSTART;TZID=Europe/Paris:20261201T183000
DTEND;TZID=Europe/Paris:20261201T213000
SUMMARY:Praticien PNL certifié en ligne
END:VEVENT
BEGIN:VEVENT
UID:5b7c1852-b747-4d46-9a68-60b7ad4f5e1f
DTSTAMP:20260413T142447
DTSTART;TZID=Europe/Paris:20261208T183000
DTEND;TZID=Europe/Paris:20261208T213000
SUMMARY:Praticien PNL certifié en ligne
END:VEVENT
BEGIN:VEVENT
UID:1f420112-9005-4749-8455-9771aced8cc8
DTSTAMP:20260413T142447
DTSTART;TZID=Europe/Paris:20261215T183000
DTEND;TZID=Europe/Paris:20261215T213000
SUMMARY:Praticien PNL certifié en ligne
END:VEVENT
BEGIN:VEVENT
UID:9e25f977-789a-4816-8483-b7f81e340bc4
DTSTAMP:20260413T142447
DTSTART;TZID=Europe/Paris:20270112T183000
DTEND;TZID=Europe/Paris:20270112T213000
SUMMARY:Praticien PNL certifié en ligne
END:VEVENT
BEGIN:VEVENT
UID:12a05406-2bd7-482e-a2be-80fd70eee365
DTSTAMP:20260413T142447
DTSTART;TZID=Europe/Paris:20270119T183000
DTEND;TZID=Europe/Paris:20270119T213000
SUMMARY:Praticien PNL certifié en ligne
END:VEVENT
BEGIN:VEVENT
UID:18cad3c1-1e83-4e60-9864-d191929816cc
DTSTAMP:20260413T142447
DTSTART;TZID=Europe/Paris:20270126T183000
DTEND;TZID=Europe/Paris:20270126T213000
SUMMARY:Praticien PNL certifié en ligne
END:VEVENT
BEGIN:VEVENT
UID:9d5fe16e-b06a-4842-a0dc-10e320bd5104
DTSTAMP:20260413T142447
DTSTART;TZID=Europe/Paris:20270202T183000
DTEND;TZID=Europe/Paris:20270202T213000
SUMMARY:Praticien PNL certifié en ligne
END:VEVENT
BEGIN:VEVENT
UID:4935e27e-c01e-4a9a-8813-eb36cbb2eeae
DTSTAMP:20260413T142447
DTSTART;TZID=Europe/Paris:20270209T183000
DTEND;TZID=Europe/Paris:20270209T213000
SUMMARY:Praticien PNL certifié en ligne
END:VEVENT
BEGIN:VEVENT
UID:bd3f6302-a5b6-4de4-9f7b-69317cbf2df4
DTSTAMP:20260413T142447
DTSTART;TZID=Europe/Paris:20270223T183000
DTEND;TZID=Europe/Paris:20270223T213000
SUMMARY:Praticien PNL certifié en ligne
END:VEVENT
BEGIN:VEVENT
UID:1fc2868b-7fc0-4807-9c06-5acd91618a42
DTSTAMP:20260413T142447
DTSTART;TZID=Europe/Paris:20270302T183000
DTEND;TZID=Europe/Paris:20270302T213000
SUMMARY:Praticien PNL certifié en ligne
END:VEVENT
BEGIN:VEVENT
UID:442cd92d-014f-4774-a6c3-0d73602bfa04
DTSTAMP:20260413T142447
DTSTART;TZID=Europe/Paris:20270309T183000
DTEND;TZID=Europe/Paris:20270309T213000
SUMMARY:Praticien PNL certifié en ligne
END:VEVENT
BEGIN:VEVENT
UID:0376173a-717d-48e3-8829-b97565a86daf
DTSTAMP:20260413T142447
DTSTART;TZID=Europe/Paris:20270316T183000
DTEND;TZID=Europe/Paris:20270316T213000
SUMMARY:Praticien PNL certifié en ligne
END:VEVENT
BEGIN:VEVENT
UID:451336d3-716a-4205-b297-49faa34aeeb4
DTSTAMP:20260413T142447
DTSTART;TZID=Europe/Paris:20270323T183000
DTEND;TZID=Europe/Paris:20270323T213000
SUMMARY:Praticien PNL certifié en ligne
END:VEVENT
BEGIN:VEVENT
UID:55d8bdcd-ae0f-45c2-b33c-e6f01b40bb29
DTSTAMP:20260413T142447
DTSTART;TZID=Europe/Paris:20270413T183000
DTEND;TZID=Europe/Paris:20270413T213000
SUMMARY:Praticien PNL certifié en ligne
END:VEVENT
BEGIN:VEVENT
UID:ec67c763-c4b6-48d8-b78e-b73b2477da8c
DTSTAMP:20260413T142447
DTSTART;TZID=Europe/Paris:20270420T183000
DTEND;TZID=Europe/Paris:20270420T213000
SUMMARY:Praticien PNL certifié en ligne
END:VEVENT
BEGIN:VEVENT
UID:8c947a09-3305-4df3-9ca3-30282895b9c3
DTSTAMP:20260413T142447
DTSTART;TZID=Europe/Paris:20270427T183000
DTEND;TZID=Europe/Paris:20270427T213000
SUMMARY:Praticien PNL certifié en ligne
END:VEVENT
BEGIN:VEVENT
UID:ee3922a7-e4e9-44b5-8eac-b7027f023e8d
DTSTAMP:20260413T142447
DTSTART;TZID=Europe/Paris:20270504T183000
DTEND;TZID=Europe/Paris:20270504T213000
SUMMARY:Praticien PNL certifié en ligne
END:VEVENT
BEGIN:VEVENT
UID:78e52880-75d8-4691-bb14-5782b2daad86
DTSTAMP:20260413T142447
DTSTART;TZID=Europe/Paris:20270511T183000
DTEND;TZID=Europe/Paris:20270511T213000
SUMMARY:Praticien PNL certifié en ligne
END:VEVENT
BEGIN:VEVENT
UID:4d794e6e-1f24-40da-bf75-02a84e43fb22
DTSTAMP:20260413T142447
DTSTART;TZID=Europe/Paris:20270518T183000
DTEND;TZID=Europe/Paris:20270518T213000
SUMMARY:Praticien PNL certifié en ligne
END:VEVENT
BEGIN:VEVENT
UID:9d77d1a9-5245-4636-b4de-05ad212a6008
DTSTAMP:20260413T142447
DTSTART;TZID=Europe/Paris:20270525T183000
DTEND;TZID=Europe/Paris:20270525T213000
SUMMARY:Praticien PNL certifié en ligne
END:VEVENT
BEGIN:VEVENT
UID:9e13905c-ffb9-451e-9a6f-4ca26f0bd7f2
DTSTAMP:20260413T142447
DTSTART;TZID=Europe/Paris:20270601T183000
DTEND;TZID=Europe/Paris:20270601T213000
SUMMARY:Praticien PNL certifié en ligne
END:VEVENT
BEGIN:VEVENT
UID:5e2dde58-4ff9-4785-a174-2d99930f3e4d
DTSTAMP:20260413T142447
DTSTART;TZID=Europe/Paris:20270608T183000
DTEND;TZID=Europe/Paris:20270608T213000
SUMMARY:Praticien PNL certifié en ligne
END:VEVENT
BEGIN:VEVENT
UID:e6321bd0-b535-4731-834a-849176147f74
DTSTAMP:20260413T142447
DTSTART;TZID=Europe/Paris:20270615T183000
DTEND;TZID=Europe/Paris:20270615T213000
SUMMARY:Praticien PNL certifié en ligne
END:VEVENT
BEGIN:VEVENT
UID:54534f7b-ea4c-452f-82d1-45f2240f62bb
DTSTAMP:20260413T142447
DTSTART;TZID=Europe/Paris:20261020T183000
DTEND;TZID=Europe/Paris:20261020T213000
SUMMARY:Relache PNL
END:VEVENT
BEGIN:VEVENT
UID:d0ce4478-d452-4abe-948a-5c6fe8ed635a
DTSTAMP:20260413T142447
DTSTART;TZID=Europe/Paris:20261222T183000
DTEND;TZID=Europe/Paris:20261222T213000
SUMMARY:Relache PNL
END:VEVENT
BEGIN:VEVENT
UID:d6a7a134-2a24-405a-9729-691572e8ac75
DTSTAMP:20260413T142447
DTSTART;TZID=Europe/Paris:20261229T183000
DTEND;TZID=Europe/Paris:20261229T213000
SUMMARY:Relache PNL
END:VEVENT
BEGIN:VEVENT
UID:702545f2-607f-478e-8870-9ece300935e4
DTSTAMP:20260413T142447
DTSTART;TZID=Europe/Paris:20270105T183000
DTEND;TZID=Europe/Paris:20270105T213000
SUMMARY:Relache PNL
END:VEVENT
BEGIN:VEVENT
UID:108bdb3a-79b3-4bc3-8d1a-372656b2aac0
DTSTAMP:20260413T142447
DTSTART;TZID=Europe/Paris:20270216T183000
DTEND;TZID=Europe/Paris:20270216T213000
SUMMARY:Relache PNL
END:VEVENT
BEGIN:VEVENT
UID:835b60f9-bccb-437b-9378-4e461ada2488
DTSTAMP:20260413T142447
DTSTART;TZID=Europe/Paris:20270330T183000
DTEND;TZID=Europe/Paris:20270330T213000
SUMMARY:Relache PNL
END:VEVENT
BEGIN:VEVENT
UID:d574c044-6560-41f8-9d44-310ed36a7abf
DTSTAMP:20260413T142447
DTSTART;TZID=Europe/Paris:20270406T183000
DTEND;TZID=Europe/Paris:20270406T213000
SUMMARY:Relache PNL
END:VEVENT
END:VCALENDAR